BEGIN:VCALENDAR
VERSION:2.0
PRODID:spatie/icalendar-generator
DESCRIPTION:Veranstaltungen von FF Worpswede
X-WR-CALDESC:Veranstaltungen von FF Worpswede
REFRESH-INTERVAL;VALUE=DURATION:PT1440M
X-PUBLISHED-TTL:PT1440M
BEGIN:VTIMEZONE
TZID:Etc/GMT+0
BEGIN:STANDARD
DTSTART:20250728T180000Z
TZOFFSETFROM:+0000
TZOFFSETTO:+0000
END:STANDARD
END:VTIMEZONE
BEGIN:VTIMEZONE
TZID:UTC
BEGIN:STANDARD
DTSTART:20250725T135537Z
TZOFFSETFROM:+0000
TZOFFSETTO:+0000
END:STANDARD
END:VTIMEZONE
BEGIN:VEVENT
UID:2161-69
DTSTAMP:20260421T135537Z
SUMMARY:Jugendfeuerwehr - Dienst
LOCATION:
ORGANIZER;CN=Andreas Flathmann:MAILTO:andreas.flathmann@gmail.com
RRULE:FREQ=WEEKLY;UNTIL=20260605T000000Z
DTSTART;TZID=Etc/GMT+0:20260424T180000
DTEND;TZID=Etc/GMT+0:20260424T200000
X-ALT-DESC;FMTTYPE=TEXT/HTML:
CATEGORIES:General
URL;VALUE=URI:https://www.ff-worpswede.de/mc-events/jugendfeuerwehr-dienst-
 2/?mc_id=2161
METHOD:PUBLISH
END:VEVENT
END:VCALENDAR