BEGIN:VCALENDAR
VERSION:2.0
PRODID:spatie/icalendar-generator
DESCRIPTION:Veranstaltungen von FF Worpswede
X-WR-CALDESC:Veranstaltungen von FF Worpswede
REFRESH-INTERVAL;VALUE=DURATION:PT1440M
X-PUBLISHED-TTL:PT1440M
BEGIN:VTIMEZONE
TZID:Etc/GMT+0
BEGIN:STANDARD
DTSTART:20250802T173000Z
TZOFFSETFROM:+0000
TZOFFSETTO:+0000
END:STANDARD
END:VTIMEZONE
BEGIN:VTIMEZONE
TZID:UTC
BEGIN:STANDARD
DTSTART:20250728T142812Z
TZOFFSETFROM:+0000
TZOFFSETTO:+0000
END:STANDARD
END:VTIMEZONE
BEGIN:VEVENT
UID:1426-21
DTSTAMP:20260424T142812Z
SUMMARY:Gerätedienst - Wartung und Pflege der Gerätschaften
LOCATION:
ORGANIZER;CN=Andreas Flathmann:MAILTO:andreas.flathmann@gmail.com
RRULE:FREQ=WEEKLY;UNTIL=20381130T000000Z
DTSTART;TZID=Etc/GMT+0:20260429T173000
DTEND;TZID=Etc/GMT+0:20260429T193000
X-ALT-DESC;FMTTYPE=TEXT/HTML:
CATEGORIES:General
URL;VALUE=URI:https://www.ff-worpswede.de/mc-events/geraetedienst-wartung-u
 nd-pflege-der-geraetschaften/?mc_id=1426
METHOD:PUBLISH
END:VEVENT
END:VCALENDAR