BEGIN:VCALENDAR
VERSION:2.0
PRODID:spatie/icalendar-generator
DESCRIPTION:Veranstaltungen von FF Worpswede
X-WR-CALDESC:Veranstaltungen von FF Worpswede
REFRESH-INTERVAL;VALUE=DURATION:PT1440M
X-PUBLISHED-TTL:PT1440M
BEGIN:VTIMEZONE
TZID:Etc/GMT+0
BEGIN:STANDARD
DTSTART:20250807T190000Z
TZOFFSETFROM:+0000
TZOFFSETTO:+0000
END:STANDARD
END:VTIMEZONE
BEGIN:VTIMEZONE
TZID:UTC
BEGIN:STANDARD
DTSTART:20250729T152837Z
TZOFFSETFROM:+0000
TZOFFSETTO:+0000
END:STANDARD
END:VTIMEZONE
BEGIN:VEVENT
UID:2114-57
DTSTAMP:20260425T152837Z
SUMMARY:Ausbildungdienst - ELW Gruppe
LOCATION:
ORGANIZER;CN=Andreas Flathmann:MAILTO:andreas.flathmann@gmail.com
DTSTART;TZID=Etc/GMT+0:20260504T190000
DTEND;TZID=Etc/GMT+0:20260504T210000
X-ALT-DESC;FMTTYPE=TEXT/HTML:
CATEGORIES:General
URL;VALUE=URI:https://www.ff-worpswede.de/mc-events/ausbildungdienst-elw-gr
 uppe-4/
METHOD:PUBLISH
END:VEVENT
END:VCALENDAR