BEGIN:VCALENDAR
VERSION:2.0
PRODID:spatie/icalendar-generator
DESCRIPTION:Veranstaltungen von FF Worpswede
X-WR-CALDESC:Veranstaltungen von FF Worpswede
REFRESH-INTERVAL;VALUE=DURATION:PT1440M
X-PUBLISHED-TTL:PT1440M
BEGIN:VTIMEZONE
TZID:Etc/GMT+0
BEGIN:STANDARD
DTSTART:20250729T090000Z
TZOFFSETFROM:+0000
TZOFFSETTO:+0000
END:STANDARD
END:VTIMEZONE
BEGIN:VTIMEZONE
TZID:UTC
BEGIN:STANDARD
DTSTART:20250726T120042Z
TZOFFSETFROM:+0000
TZOFFSETTO:+0000
END:STANDARD
END:VTIMEZONE
BEGIN:VEVENT
UID:2122-65
DTSTAMP:20260422T120042Z
SUMMARY:Ausbildungdienst - ELW Gruppe
LOCATION:
ORGANIZER;CN=Andreas Flathmann:MAILTO:andreas.flathmann@gmail.com
DTSTART;TZID=Etc/GMT+0:20260425T090000
DTEND;TZID=Etc/GMT+0:20260425T120000
X-ALT-DESC;FMTTYPE=TEXT/HTML:
CATEGORIES:General
URL;VALUE=URI:https://www.ff-worpswede.de/mc-events/ausbildungdienst-elw-gr
 uppe-12/
METHOD:PUBLISH
END:VEVENT
END:VCALENDAR